BEGIN:VCALENDAR
VERSION:2.0
PRODID:-//Glendale Ridge Vineyard - ECPv6.15.20//NONSGML v1.0//EN
CALSCALE:GREGORIAN
METHOD:PUBLISH
X-WR-CALNAME:Glendale Ridge Vineyard
X-ORIGINAL-URL:https://www.glendaleridgevineyard.com
X-WR-CALDESC:Events for Glendale Ridge Vineyard
REFRESH-INTERVAL;VALUE=DURATION:PT1H
X-Robots-Tag:noindex
X-PUBLISHED-TTL:PT1H
BEGIN:VTIMEZONE
TZID:America/New_York
BEGIN:DAYLIGHT
TZOFFSETFROM:-0500
TZOFFSETTO:-0400
TZNAME:EDT
DTSTART:20210314T070000
END:DAYLIGHT
BEGIN:STANDARD
TZOFFSETFROM:-0400
TZOFFSETTO:-0500
TZNAME:EST
DTSTART:20211107T060000
END:STANDARD
BEGIN:DAYLIGHT
TZOFFSETFROM:-0500
TZOFFSETTO:-0400
TZNAME:EDT
DTSTART:20220313T070000
END:DAYLIGHT
BEGIN:STANDARD
TZOFFSETFROM:-0400
TZOFFSETTO:-0500
TZNAME:EST
DTSTART:20221106T060000
END:STANDARD
BEGIN:DAYLIGHT
TZOFFSETFROM:-0500
TZOFFSETTO:-0400
TZNAME:EDT
DTSTART:20230312T070000
END:DAYLIGHT
BEGIN:STANDARD
TZOFFSETFROM:-0400
TZOFFSETTO:-0500
TZNAME:EST
DTSTART:20231105T060000
END:STANDARD
END:VTIMEZONE
BEGIN:VEVENT
DTSTART;TZID=America/New_York:20220904T160000
DTEND;TZID=America/New_York:20220904T190000
DTSTAMP:20260419T113512
CREATED:20220315T171016Z
LAST-MODIFIED:20220412T153059Z
UID:1269-1662307200-1662318000@www.glendaleridgevineyard.com
SUMMARY:Sunset Series - Tony Bernardo
DESCRIPTION:Our 2022 season is in full swing here at Glendale Ridge Vineyard. Join us as we showcase some local talent every Friday & Sunday\, May 20th through October 9th! \nWith each week featuring different artists\, you won’t want to miss a chance to sit back and enjoy a glass of wine while listening to these acoustic sounds. \nAll Friday sessions will be from 5-8 PM* & Sundays from 4-7 PM \n*Starting 9.16.2022 all sessions will be from 4-7 PM to account for changing sunset/dusk.
URL:https://www.glendaleridgevineyard.com/event/sunset-series-tony-bernardo-2/
CATEGORIES:All Events,Music
END:VEVENT
BEGIN:VEVENT
DTSTART;TZID=America/New_York:20220909T170000
DTEND;TZID=America/New_York:20220909T193000
DTSTAMP:20260419T113512
CREATED:20220419T163008Z
LAST-MODIFIED:20220517T141713Z
UID:1295-1662742800-1662751800@www.glendaleridgevineyard.com
SUMMARY:Food Truck! - HighBrow
DESCRIPTION:HighBrow is at Glendale Ridge for the afternoon! Known for their cutting edge creativity\, HighBrow offers American food with French flair & Italian influence. Their use of fresh & local ingredients will have you coming back for more!
URL:https://www.glendaleridgevineyard.com/event/food-truck-highbrow-8/
CATEGORIES:All Events
END:VEVENT
BEGIN:VEVENT
DTSTART;TZID=America/New_York:20220909T170000
DTEND;TZID=America/New_York:20220909T200000
DTSTAMP:20260419T113512
CREATED:20220315T171123Z
LAST-MODIFIED:20220907T135304Z
UID:1270-1662742800-1662753600@www.glendaleridgevineyard.com
SUMMARY:Sunset Series - Janet Ryan & Ray Chaput
DESCRIPTION:Our 2022 season is in full swing here at Glendale Ridge Vineyard. Join us as we showcase some local talent every Friday & Sunday\, May 20th through October 9th! \nWith each week featuring different artists\, you won’t want to miss a chance to sit back and enjoy a glass of wine while listening to these acoustic sounds. \nAll Friday sessions will be from 5-8 PM* & Sundays from 4-7 PM \n*Starting 9.16.2022 all sessions will be from 4-7 PM to account for changing sunset/dusk.
URL:https://www.glendaleridgevineyard.com/event/sunset-series-david-bartley-2/
CATEGORIES:All Events,Music
END:VEVENT
BEGIN:VEVENT
DTSTART;TZID=America/New_York:20220911T140000
DTEND;TZID=America/New_York:20220911T190000
DTSTAMP:20260419T113512
CREATED:20220703T155953Z
LAST-MODIFIED:20220703T160021Z
UID:1364-1662904800-1662922800@www.glendaleridgevineyard.com
SUMMARY:Oysters & Crêpes for you!
DESCRIPTION:Put this one on your calendar! \nScott Shucks & Crêpes Nanou come to Glendale Ridge for an afternoon of fresh seafood & French cuisine. \nScott Shucks brings the ocean to you with farm fresh oysters and cooked shrimp. Seafood must be pre-ordered at scottshucks.com beginning Thursday\, eptember 1st and closing\, Thursday\, September 8th at noon. \nCrêpes Nanou creates crêpes for all palates using fresh\, seasonal ingredients. You can check her creations on the Crêpes Nanou website. They will be available à la carte. \nBuddy McEarns plays for you from 4-7 PM.
URL:https://www.glendaleridgevineyard.com/event/oysters-crepes-for-you/
CATEGORIES:All Events,Music
END:VEVENT
BEGIN:VEVENT
DTSTART;TZID=America/New_York:20220911T160000
DTEND;TZID=America/New_York:20220911T190000
DTSTAMP:20260419T113512
CREATED:20220315T171220Z
LAST-MODIFIED:20220412T153022Z
UID:1271-1662912000-1662922800@www.glendaleridgevineyard.com
SUMMARY:Sunset Series - Buddy McEarns
DESCRIPTION:Our 2022 season is in full swing here at Glendale Ridge Vineyard. Join us as we showcase some local talent every Friday & Sunday\, May 20th through October 9th! \nWith each week featuring different artists\, you won’t want to miss a chance to sit back and enjoy a glass of wine while listening to these acoustic sounds. \nAll Friday sessions will be from 5-8 PM* & Sundays from 4-7 PM \n*Starting 9.16.2022 all sessions will be from 4-7 PM to account for changing sunset/dusk.
URL:https://www.glendaleridgevineyard.com/event/sunset-series-buddy-mcearns-3/
CATEGORIES:All Events,Music
END:VEVENT
BEGIN:VEVENT
DTSTART;TZID=America/New_York:20220916T160000
DTEND;TZID=America/New_York:20220916T190000
DTSTAMP:20260419T113512
CREATED:20220315T171311Z
LAST-MODIFIED:20220412T153003Z
UID:1272-1663344000-1663354800@www.glendaleridgevineyard.com
SUMMARY:Sunset Series - Nate Martell
DESCRIPTION:Our 2022 season is in full swing here at Glendale Ridge Vineyard. Join us as we showcase some local talent every Friday & Sunday\, May 20th through October 9th! \nWith each week featuring different artists\, you won’t want to miss a chance to sit back and enjoy a glass of wine while listening to these acoustic sounds. \nAll Friday sessions will be from 5-8 PM* & Sundays from 4-7 PM \n*Starting 9.16.2022 all sessions will be from 4-7 PM to account for changing sunset/dusk.
URL:https://www.glendaleridgevineyard.com/event/sunset-series-nate-martell/
CATEGORIES:All Events,Music
END:VEVENT
BEGIN:VEVENT
DTSTART;TZID=America/New_York:20220916T170000
DTEND;TZID=America/New_York:20220916T193000
DTSTAMP:20260419T113512
CREATED:20220725T214648Z
LAST-MODIFIED:20220914T120504Z
UID:1377-1663347600-1663356600@www.glendaleridgevineyard.com
SUMMARY:Food Truck! - Crêpes Nanou
DESCRIPTION:Crêpes Nanou is at Glendale Ridge for the afternoon! Made with French flair & fresh ingredients\, Crêpes Nanou offers something for every palate
URL:https://www.glendaleridgevineyard.com/event/food-truck-crepes-nanou/
CATEGORIES:All Events
END:VEVENT
BEGIN:VEVENT
DTSTART;TZID=America/New_York:20220917T130000
DTEND;TZID=America/New_York:20220917T160000
DTSTAMP:20260419T113512
CREATED:20220830T151005Z
LAST-MODIFIED:20220906T154951Z
UID:1389-1663419600-1663430400@www.glendaleridgevineyard.com
SUMMARY:Wine & Cheese Celebration
DESCRIPTION:Join Glendale Ridge Vineyard along with a number of local Massachusetts cheesemakers to celebrate the delicious cheeses created right in our own backyard! \nFeatured cheesemakers include: Grace Hill Dairy\, Smith’s Country Cheese\, and Cricket Creek Farm. \nProvisions  will also be joining us for the festivities. \nBuddy McEarns plays 1-4pm & Griffin Anthony plays 5-8pm.
URL:https://www.glendaleridgevineyard.com/event/cheese-fest/
CATEGORIES:All Events
END:VEVENT
BEGIN:VEVENT
DTSTART;TZID=America/New_York:20220918T140000
DTEND;TZID=America/New_York:20220918T183000
DTSTAMP:20260419T113512
CREATED:20220419T175949Z
LAST-MODIFIED:20220517T145412Z
UID:1230-1663509600-1663525800@www.glendaleridgevineyard.com
SUMMARY:Food Truck! - Bistro Bus
DESCRIPTION:Bistro Bus comes to Glendale Ridge for the afternoon. Their 1/2 lb burger\, sesame noodle salad\, and weekly specials will have you coming back for more.
URL:https://www.glendaleridgevineyard.com/event/food-truck-bistro-bus-9/
CATEGORIES:All Events
END:VEVENT
BEGIN:VEVENT
DTSTART;TZID=America/New_York:20220918T160000
DTEND;TZID=America/New_York:20220918T190000
DTSTAMP:20260419T113512
CREATED:20220315T171418Z
LAST-MODIFIED:20220412T152602Z
UID:1273-1663516800-1663527600@www.glendaleridgevineyard.com
SUMMARY:Sunset Series - Lisa Martin
DESCRIPTION:Our 2022 season is in full swing here at Glendale Ridge Vineyard. Join us as we showcase some local talent every Friday & Sunday\, May 20th through October 9th! \nWith each week featuring different artists\, you won’t want to miss a chance to sit back and enjoy a glass of wine while listening to these acoustic sounds. \nAll Friday sessions will be from 5-8 PM* & Sundays from 4-7 PM \n*Starting 9.16.2022 all sessions will be from 4-7 PM to account for changing sunset/dusk.
URL:https://www.glendaleridgevineyard.com/event/sunset-series-lisa-martin-2/
CATEGORIES:All Events,Music
END:VEVENT
BEGIN:VEVENT
DTSTART;TZID=America/New_York:20220923T160000
DTEND;TZID=America/New_York:20220923T183000
DTSTAMP:20260419T113512
CREATED:20220419T163102Z
LAST-MODIFIED:20220419T163130Z
UID:1296-1663948800-1663957800@www.glendaleridgevineyard.com
SUMMARY:Food Truck! - HighBrow
DESCRIPTION:HighBrow is at Glendale Ridge for the afternoon! Known for their cutting edge creativity\, HighBrow offers American food with French flair & Italian influence. Their use of fresh & local ingredients will have you coming back for more!
URL:https://www.glendaleridgevineyard.com/event/food-truck-highbrow-9/
CATEGORIES:All Events
END:VEVENT
BEGIN:VEVENT
DTSTART;TZID=America/New_York:20220923T160000
DTEND;TZID=America/New_York:20220923T190000
DTSTAMP:20260419T113512
CREATED:20220315T171505Z
LAST-MODIFIED:20220412T152456Z
UID:1274-1663948800-1663959600@www.glendaleridgevineyard.com
SUMMARY:Sunset Series - Tom Savoy
DESCRIPTION:Our 2022 season is in full swing here at Glendale Ridge Vineyard. Join us as we showcase some local talent every Friday & Sunday\, May 20th through October 9th! \nWith each week featuring different artists\, you won’t want to miss a chance to sit back and enjoy a glass of wine while listening to these acoustic sounds. \nAll Friday sessions will be from 5-8 PM* & Sundays from 4-7 PM \n*Starting 9.16.2022 all sessions will be from 4-7 PM to account for changing sunset/dusk.
URL:https://www.glendaleridgevineyard.com/event/sunset-series-tom-savoy-3/
CATEGORIES:All Events,Music
END:VEVENT
BEGIN:VEVENT
DTSTART;TZID=America/New_York:20220924T130000
DTEND;TZID=America/New_York:20220924T183000
DTSTAMP:20260419T113512
CREATED:20220924T135153Z
LAST-MODIFIED:20220924T135153Z
UID:1399-1664024400-1664044200@www.glendaleridgevineyard.com
SUMMARY:Food truck - Island Spice
DESCRIPTION:We are so thrilled to welcome Island Spice Food Truck\, New England’s first & only food truck specializing in Sri Lankan cuisine to Glendale Ridge Vineyard! \nWith bright spices and indulgent natural ingredients\, the island of Sri Lanka boasts rich\, savory street food\, and we cannot wait to share this unique experience with New England!
URL:https://www.glendaleridgevineyard.com/event/food-truck-island-spice/
CATEGORIES:All Events
END:VEVENT
BEGIN:VEVENT
DTSTART;TZID=America/New_York:20220924T130000
DTEND;TZID=America/New_York:20220924T190000
DTSTAMP:20260419T113512
CREATED:20220906T153745Z
LAST-MODIFIED:20220919T145543Z
UID:1392-1664024400-1664046000@www.glendaleridgevineyard.com
SUMMARY:Harvest Celebration!
DESCRIPTION:The 2022 harvest season is upon us! \nStop by to celebrate our favorite time of year with music\, wine\, & more! \nDan Goldwaithe plays 1-4pm and Tom Savoy plays 4-7pm \nNoiret Harvest at 1pm \nGrape Stomp at 1:45pm \nTours at 2:30 & 4:30pm \nIsland Spice food truck is here 1-7pm
URL:https://www.glendaleridgevineyard.com/event/harvest-celebration/
CATEGORIES:All Events
END:VEVENT
BEGIN:VEVENT
DTSTART;TZID=America/New_York:20220925T160000
DTEND;TZID=America/New_York:20220925T190000
DTSTAMP:20260419T113512
CREATED:20220315T171604Z
LAST-MODIFIED:20220412T152521Z
UID:1275-1664121600-1664132400@www.glendaleridgevineyard.com
SUMMARY:Sunset Series - Dan Goldwaithe
DESCRIPTION:Our 2022 season is in full swing here at Glendale Ridge Vineyard. Join us as we showcase some local talent every Friday & Sunday\, May 20th through October 9th! \nWith each week featuring different artists\, you won’t want to miss a chance to sit back and enjoy a glass of wine while listening to these acoustic sounds. \nAll Friday sessions will be from 5-8 PM* & Sundays from 4-7 PM \n*Starting 9.16.2022 all sessions will be from 4-7 PM to account for changing sunset/dusk.
URL:https://www.glendaleridgevineyard.com/event/sunset-series-dan-goldwaithe-3/
CATEGORIES:All Events,Music
END:VEVENT
BEGIN:VEVENT
DTSTART;TZID=America/New_York:20220927T133000
DTEND;TZID=America/New_York:20220927T150000
DTSTAMP:20260419T113512
CREATED:20220927T210639Z
LAST-MODIFIED:20220927T210639Z
UID:1401-1664285400-1664290800@www.glendaleridgevineyard.com
SUMMARY:Art in Motion
DESCRIPTION:Join us for an afternoon of dance produced by Art in Motion. Celebrate the new season and learn about the dance studio located right in Western Massachusetts.
URL:https://www.glendaleridgevineyard.com/event/art-in-motion/
CATEGORIES:All Events,Music
END:VEVENT
BEGIN:VEVENT
DTSTART;TZID=America/New_York:20220929T180000
DTEND;TZID=America/New_York:20220929T200000
DTSTAMP:20260419T113512
CREATED:20220906T140201Z
LAST-MODIFIED:20220906T140704Z
UID:1391-1664474400-1664481600@www.glendaleridgevineyard.com
SUMMARY:Build-A-Board Thursday w/ Jill Foley of Fed by Foley
DESCRIPTION:You won’t want to miss this  charcuterie board making class\, Thursday\, September 29th at 6 pm. You’ll learn all the tricks that make a cheese + charcuterie board as eye catching as it is delicious! Tickets are $65 and include your choice of a glass of wine and all you need to make your own charcuterie board to take home!
URL:https://www.glendaleridgevineyard.com/event/build-a-board-thursday-w-jill-foley-of-fed-by-foley/
CATEGORIES:All Events
END:VEVENT
BEGIN:VEVENT
DTSTART;TZID=America/New_York:20220930T160000
DTEND;TZID=America/New_York:20220930T183000
DTSTAMP:20260419T113512
CREATED:20220419T173421Z
LAST-MODIFIED:20220419T173421Z
UID:1316-1664553600-1664562600@www.glendaleridgevineyard.com
SUMMARY:Food Truck! - Crêpes Nanou
DESCRIPTION:Crêpes Nanou is at Glendale Ridge for the afternoon! Made with French flair & fresh ingredients\, Crêpes Nanou offers something for every palate.
URL:https://www.glendaleridgevineyard.com/event/food-truck-crepes-nanou-14/
CATEGORIES:All Events
END:VEVENT
BEGIN:VEVENT
DTSTART;TZID=America/New_York:20220930T160000
DTEND;TZID=America/New_York:20220930T190000
DTSTAMP:20260419T113512
CREATED:20220315T171717Z
LAST-MODIFIED:20220412T152424Z
UID:1276-1664553600-1664564400@www.glendaleridgevineyard.com
SUMMARY:Sunset Series - Dave Brinnel
DESCRIPTION:Our 2022 season is in full swing here at Glendale Ridge Vineyard. Join us as we showcase some local talent every Friday & Sunday\, May 20th through October 9th! \nWith each week featuring different artists\, you won’t want to miss a chance to sit back and enjoy a glass of wine while listening to these acoustic sounds. \nAll Friday sessions will be from 5-8 PM* & Sundays from 4-7 PM \n*Starting 9.16.2022 all sessions will be from 4-7 PM to account for changing sunset/dusk.
URL:https://www.glendaleridgevineyard.com/event/sunset-series-dave-brinnel-2/
CATEGORIES:All Events,Music
END:VEVENT
BEGIN:VEVENT
DTSTART;TZID=America/New_York:20221002T140000
DTEND;TZID=America/New_York:20221002T183000
DTSTAMP:20260419T113512
CREATED:20220606T174421Z
LAST-MODIFIED:20220930T225152Z
UID:1350-1664719200-1664735400@www.glendaleridgevineyard.com
SUMMARY:Food Truck! - Ginger Love Cafe
DESCRIPTION:Ginger love cafe comes to Glendale Ridge! Ginger Love Cafe seeks to recreate the experience of Filipino food markets filled with late night crowds\, smoky charcoal grilling\, and the joy of sharing food & laughter.
URL:https://www.glendaleridgevineyard.com/event/food-truck-ginger-love-cafe-8/
CATEGORIES:All Events
END:VEVENT
BEGIN:VEVENT
DTSTART;TZID=America/New_York:20221002T160000
DTEND;TZID=America/New_York:20221002T180000
DTSTAMP:20260419T113512
CREATED:20220922T153453Z
LAST-MODIFIED:20220922T153453Z
UID:1398-1664726400-1664733600@www.glendaleridgevineyard.com
SUMMARY:Hilltown Art Alliance Hilltown Open Studio Tour
DESCRIPTION:The Hilltown Art Alliance Open Studio Tour highlights artists located in theWestern Mass Hilltowns. This self-guided tour  takes visitors to see the work and studios of Hilltowns artists who have chosen the region for its unique rural character and space to create. \nEnd the tour at Glendale Ridge to taste the new release of 2021 Rosé and Sauvignon Blanc\, and enjoy a glass and the sunset overlooking the vineyard. Don’t forget your Open Studio Brochure!
URL:https://www.glendaleridgevineyard.com/event/hilltown-art-alliance-hilltown-open-studio-tour/
CATEGORIES:All Events
END:VEVENT
BEGIN:VEVENT
DTSTART;TZID=America/New_York:20221002T160000
DTEND;TZID=America/New_York:20221002T190000
DTSTAMP:20260419T113512
CREATED:20220315T171811Z
LAST-MODIFIED:20220412T152326Z
UID:1277-1664726400-1664737200@www.glendaleridgevineyard.com
SUMMARY:Sunset Series - Donnie Brasco Duo
DESCRIPTION:Our 2022 season is in full swing here at Glendale Ridge Vineyard. Join us as we showcase some local talent every Friday & Sunday\, May 20th through October 9th! \nWith each week featuring different artists\, you won’t want to miss a chance to sit back and enjoy a glass of wine while listening to these acoustic sounds. \nAll Friday sessions will be from 5-8 PM* & Sundays from 4-7 PM \n*Starting 9.16.2022 all sessions will be from 4-7 PM to account for changing sunset/dusk.
URL:https://www.glendaleridgevineyard.com/event/sunset-series-donnie-brasco-duo-3/
CATEGORIES:All Events,Music
END:VEVENT
BEGIN:VEVENT
DTSTART;TZID=America/New_York:20221006T170000
DTEND;TZID=America/New_York:20221006T190000
DTSTAMP:20260419T113512
CREATED:20220912T143930Z
LAST-MODIFIED:20221004T140738Z
UID:1395-1665075600-1665082800@www.glendaleridgevineyard.com
SUMMARY:Gentle Yoga with Crisscross Applesauce Yoga Club
DESCRIPTION:Come relax with some gentle yoga\, sound healing\, and reiki! Live music performed by Tommy Mac! $20 includes yoga and a glass of wine. No experience required. Please bring a yoga mat/something you’re comfortable lying on as well as blankets and pillows for support. Any questions please contact Kathy at (413)505-9975.
URL:https://www.glendaleridgevineyard.com/event/gentle-yoga-with-crisscross-applesauce-yoga-club/
CATEGORIES:All Events
END:VEVENT
BEGIN:VEVENT
DTSTART;TZID=America/New_York:20221007T160000
DTEND;TZID=America/New_York:20221007T183000
DTSTAMP:20260419T113512
CREATED:20220419T164613Z
LAST-MODIFIED:20220419T164613Z
UID:1297-1665158400-1665167400@www.glendaleridgevineyard.com
SUMMARY:Food Truck! - HighBrow
DESCRIPTION:HighBrow is at Glendale Ridge for the afternoon! Known for their cutting edge creativity\, HighBrow offers American food with French flair & Italian influence. Their use of fresh & local ingredients will have you coming back for more!
URL:https://www.glendaleridgevineyard.com/event/food-truck-highbrow-10/
CATEGORIES:All Events
END:VEVENT
BEGIN:VEVENT
DTSTART;TZID=America/New_York:20221007T160000
DTEND;TZID=America/New_York:20221007T190000
DTSTAMP:20260419T113512
CREATED:20220315T171903Z
LAST-MODIFIED:20220412T152303Z
UID:1278-1665158400-1665169200@www.glendaleridgevineyard.com
SUMMARY:Sunset Series - Nate Martell
DESCRIPTION:Our 2022 season is in full swing here at Glendale Ridge Vineyard. Join us as we showcase some local talent every Friday & Sunday\, May 20th through October 9th! \nWith each week featuring different artists\, you won’t want to miss a chance to sit back and enjoy a glass of wine while listening to these acoustic sounds. \nAll Friday sessions will be from 5-8 PM* & Sundays from 4-7 PM \n*Starting 9.16.2022 all sessions will be from 4-7 PM to account for changing sunset/dusk.
URL:https://www.glendaleridgevineyard.com/event/sunset-series-nate-martell-2/
CATEGORIES:All Events,Music
END:VEVENT
BEGIN:VEVENT
DTSTART;VALUE=DATE:20221008
DTEND;VALUE=DATE:20221009
DTSTAMP:20260419T113512
CREATED:20220622T113909Z
LAST-MODIFIED:20220705T132154Z
UID:1361-1665187200-1665273599@www.glendaleridgevineyard.com
SUMMARY:2nd Annual New England Noir
DESCRIPTION:New England Noir is a safe space – all are included\, respected\, and welcome. For the 2nd year\, there will be great music\, performances and most important\, peace and love. \nThis is the first Black and Multicultural wine experience in New England. Music curated by Bryan-Michael Cox\, and DJ Mars to enrich the musical experience. \nTickets can be purchased on eventbrite.
URL:https://www.glendaleridgevineyard.com/event/2nd-annual-new-england-noir/
CATEGORIES:All Events,Music
END:VEVENT
BEGIN:VEVENT
DTSTART;TZID=America/New_York:20221008T080000
DTEND;TZID=America/New_York:20221008T190000
DTSTAMP:20260419T113512
CREATED:20211008T130753Z
LAST-MODIFIED:20220930T121009Z
UID:1179-1665216000-1665255600@www.glendaleridgevineyard.com
SUMMARY:Grounds closed to all but ticket holders of New England Noir
DESCRIPTION:Grounds closed to all but ticket holders for New England Noir. New England’s 1st Multicultural Wine Festival.
URL:https://www.glendaleridgevineyard.com/event/grounds-closed-to-all-but-ticket-holders-of-new-england-noir/
CATEGORIES:All Events
END:VEVENT
BEGIN:VEVENT
DTSTART;TZID=America/New_York:20221008T140000
DTEND;TZID=America/New_York:20221008T183000
DTSTAMP:20260419T113512
CREATED:20220419T173528Z
LAST-MODIFIED:20220517T145713Z
UID:1317-1665237600-1665253800@www.glendaleridgevineyard.com
SUMMARY:Food Truck! - Crêpes Nanou
DESCRIPTION:Crêpes Nanou is at Glendale Ridge for the afternoon! Made with French flair & fresh ingredients\, Crêpes Nanou offers something for every palate.
URL:https://www.glendaleridgevineyard.com/event/crepes-nanou-2/
CATEGORIES:All Events
END:VEVENT
BEGIN:VEVENT
DTSTART;TZID=America/New_York:20221009T120000
DTEND;TZID=America/New_York:20221009T180000
DTSTAMP:20260419T113512
CREATED:20221004T150642Z
LAST-MODIFIED:20221004T151052Z
UID:1403-1665316800-1665338400@www.glendaleridgevineyard.com
SUMMARY:Wine by glass & bottle only.
DESCRIPTION:Wine by the glass or bottle. Due to an expected high attendance\, no tastings or flights available on this date. \nClosing 6 PM
URL:https://www.glendaleridgevineyard.com/event/sunday-october-9th/
CATEGORIES:All Events
END:VEVENT
BEGIN:VEVENT
DTSTART;TZID=America/New_York:20221015T153000
DTEND;TZID=America/New_York:20221015T183000
DTSTAMP:20260419T113512
CREATED:20220818T195200Z
LAST-MODIFIED:20220927T210045Z
UID:1387-1665847800-1665858600@www.glendaleridgevineyard.com
SUMMARY:Free Concert: Grayson Ty
DESCRIPTION:Grayson Ty comes to Glendale Ridge! Relax & enjoy a glass of wine while listening to some acoustic sounds. \nIsland Spice will be serving Sri Lanken street food that features bright spices and indulgent natural ingredients. \n 
URL:https://www.glendaleridgevineyard.com/event/free-concert-grayson-ty/
CATEGORIES:All Events,Music
END:VEVENT
END:VCALENDAR