BEGIN:VCALENDAR
VERSION:2.0
PRODID:-//Glendale Ridge Vineyard - ECPv6.15.20//NONSGML v1.0//EN
CALSCALE:GREGORIAN
METHOD:PUBLISH
X-ORIGINAL-URL:https://www.glendaleridgevineyard.com
X-WR-CALDESC:Events for Glendale Ridge Vineyard
REFRESH-INTERVAL;VALUE=DURATION:PT1H
X-Robots-Tag:noindex
X-PUBLISHED-TTL:PT1H
BEGIN:VTIMEZONE
TZID:America/New_York
BEGIN:DAYLIGHT
TZOFFSETFROM:-0500
TZOFFSETTO:-0400
TZNAME:EDT
DTSTART:20240310T070000
END:DAYLIGHT
BEGIN:STANDARD
TZOFFSETFROM:-0400
TZOFFSETTO:-0500
TZNAME:EST
DTSTART:20241103T060000
END:STANDARD
BEGIN:DAYLIGHT
TZOFFSETFROM:-0500
TZOFFSETTO:-0400
TZNAME:EDT
DTSTART:20250309T070000
END:DAYLIGHT
BEGIN:STANDARD
TZOFFSETFROM:-0400
TZOFFSETTO:-0500
TZNAME:EST
DTSTART:20251102T060000
END:STANDARD
BEGIN:DAYLIGHT
TZOFFSETFROM:-0500
TZOFFSETTO:-0400
TZNAME:EDT
DTSTART:20260308T070000
END:DAYLIGHT
BEGIN:STANDARD
TZOFFSETFROM:-0400
TZOFFSETTO:-0500
TZNAME:EST
DTSTART:20261101T060000
END:STANDARD
END:VTIMEZONE
BEGIN:VEVENT
DTSTART;TZID=America/New_York:20250725T170000
DTEND;TZID=America/New_York:20250725T200000
DTSTAMP:20260421T105443
CREATED:20250213T155057Z
LAST-MODIFIED:20250618T175232Z
UID:1979-1753462800-1753473600@www.glendaleridgevineyard.com
SUMMARY:Sunset Music Series - Janet Ryan Duo
DESCRIPTION:Food Truck: Poco Riso \nJoin us for the GRV Sunset Music Series\, a relaxing evening of live acoustic performances by local musicians! Enjoy the sounds of talented artists at sunset. With no cover charge\, it’s the perfect way to unwind with friends and family. Plus\, food trucks will be on site\, offering delicious eats to complete the experience. Don’t miss out on this free\, fun-filled event! Fridays & Sundays\, May 9 to October 3.
URL:https://www.glendaleridgevineyard.com/event/sunset-music-series-tba-6/
CATEGORIES:All Events,Music
END:VEVENT
END:VCALENDAR