BEGIN:VCALENDAR
VERSION:2.0
PRODID:-//Glendale Ridge Vineyard - ECPv6.15.20//NONSGML v1.0//EN
CALSCALE:GREGORIAN
METHOD:PUBLISH
X-ORIGINAL-URL:https://www.glendaleridgevineyard.com
X-WR-CALDESC:Events for Glendale Ridge Vineyard
REFRESH-INTERVAL;VALUE=DURATION:PT1H
X-Robots-Tag:noindex
X-PUBLISHED-TTL:PT1H
BEGIN:VTIMEZONE
TZID:America/New_York
BEGIN:DAYLIGHT
TZOFFSETFROM:-0500
TZOFFSETTO:-0400
TZNAME:EDT
DTSTART:20220313T070000
END:DAYLIGHT
BEGIN:STANDARD
TZOFFSETFROM:-0400
TZOFFSETTO:-0500
TZNAME:EST
DTSTART:20221106T060000
END:STANDARD
BEGIN:DAYLIGHT
TZOFFSETFROM:-0500
TZOFFSETTO:-0400
TZNAME:EDT
DTSTART:20230312T070000
END:DAYLIGHT
BEGIN:STANDARD
TZOFFSETFROM:-0400
TZOFFSETTO:-0500
TZNAME:EST
DTSTART:20231105T060000
END:STANDARD
BEGIN:DAYLIGHT
TZOFFSETFROM:-0500
TZOFFSETTO:-0400
TZNAME:EDT
DTSTART:20240310T070000
END:DAYLIGHT
BEGIN:STANDARD
TZOFFSETFROM:-0400
TZOFFSETTO:-0500
TZNAME:EST
DTSTART:20241103T060000
END:STANDARD
END:VTIMEZONE
BEGIN:VEVENT
DTSTART;TZID=America/New_York:20231214T180000
DTEND;TZID=America/New_York:20231214T200000
DTSTAMP:20260419T100025
CREATED:20221028T195307Z
LAST-MODIFIED:20231121T174056Z
UID:1412-1702576800-1702584000@www.glendaleridgevineyard.com
SUMMARY:Bingo with Molly Keehn the Bingo Queen
DESCRIPTION:December’s Bingo is in support of the Hot Chocolate Run for Safe Passage in Northampton. \nThe Safe Passage helpline’s advocates provide support\, resources\, and assistance with safety planning for survivors of domestic violence. \nMonetary donations are encouraged. There is not a cover charge or entry fee.
URL:https://www.glendaleridgevineyard.com/event/holiday-bingo-with-molly-keehn-the-bingo-queen/
CATEGORIES:All Events
END:VEVENT
END:VCALENDAR