BEGIN:VCALENDAR
VERSION:2.0
PRODID:-//Glendale Ridge Vineyard - ECPv6.15.20//NONSGML v1.0//EN
CALSCALE:GREGORIAN
METHOD:PUBLISH
X-WR-CALNAME:Glendale Ridge Vineyard
X-ORIGINAL-URL:https://www.glendaleridgevineyard.com
X-WR-CALDESC:Events for Glendale Ridge Vineyard
REFRESH-INTERVAL;VALUE=DURATION:PT1H
X-Robots-Tag:noindex
X-PUBLISHED-TTL:PT1H
BEGIN:VTIMEZONE
TZID:America/New_York
BEGIN:DAYLIGHT
TZOFFSETFROM:-0500
TZOFFSETTO:-0400
TZNAME:EDT
DTSTART:20220313T070000
END:DAYLIGHT
BEGIN:STANDARD
TZOFFSETFROM:-0400
TZOFFSETTO:-0500
TZNAME:EST
DTSTART:20221106T060000
END:STANDARD
BEGIN:DAYLIGHT
TZOFFSETFROM:-0500
TZOFFSETTO:-0400
TZNAME:EDT
DTSTART:20230312T070000
END:DAYLIGHT
BEGIN:STANDARD
TZOFFSETFROM:-0400
TZOFFSETTO:-0500
TZNAME:EST
DTSTART:20231105T060000
END:STANDARD
BEGIN:DAYLIGHT
TZOFFSETFROM:-0500
TZOFFSETTO:-0400
TZNAME:EDT
DTSTART:20240310T070000
END:DAYLIGHT
BEGIN:STANDARD
TZOFFSETFROM:-0400
TZOFFSETTO:-0500
TZNAME:EST
DTSTART:20241103T060000
END:STANDARD
END:VTIMEZONE
BEGIN:VEVENT
DTSTART;TZID=America/New_York:20231116T180000
DTEND;TZID=America/New_York:20231116T200000
DTSTAMP:20260420T040228
CREATED:20231010T141533Z
LAST-MODIFIED:20231115T172326Z
UID:1694-1700157600-1700164800@www.glendaleridgevineyard.com
SUMMARY:Bingo with Molly
DESCRIPTION:November’s bingo is in support of the Food Bank of Western Massachusetts. The Food Bank of Western Massachusetts has been feeding our neighbors and leading the community to end hunger. They provide food to members all over Western Massachusetts. \nNo cover charge. Monetary donations encouraged. \nFlights & tastings stop at 5PM.
URL:https://www.glendaleridgevineyard.com/event/bingo-with-molly-2/
CATEGORIES:All Events
END:VEVENT
BEGIN:VEVENT
DTSTART;TZID=America/New_York:20231122T130000
DTEND;TZID=America/New_York:20231122T160000
DTSTAMP:20260420T040228
CREATED:20221118T163016Z
LAST-MODIFIED:20231107T165417Z
UID:1424-1700658000-1700668800@www.glendaleridgevineyard.com
SUMMARY:Special Pre-Thanksgiving hours
DESCRIPTION:Open for bottle sales for your Thanksgiving table.
URL:https://www.glendaleridgevineyard.com/event/special-pre-thanksgiving-hours/
CATEGORIES:All Events
END:VEVENT
BEGIN:VEVENT
DTSTART;VALUE=DATE:20231123
DTEND;VALUE=DATE:20231124
DTSTAMP:20260420T040228
CREATED:20221102T160549Z
LAST-MODIFIED:20231109T153444Z
UID:1414-1700697600-1700783999@www.glendaleridgevineyard.com
SUMMARY:Closed for Thanksgiving
DESCRIPTION:
URL:https://www.glendaleridgevineyard.com/event/thanksgiving-day-closed/
CATEGORIES:All Events
END:VEVENT
BEGIN:VEVENT
DTSTART;TZID=America/New_York:20231125T120000
DTEND;TZID=America/New_York:20231125T170000
DTSTAMP:20260420T040228
CREATED:20231111T220619Z
LAST-MODIFIED:20231115T162704Z
UID:1711-1700913600-1700931600@www.glendaleridgevineyard.com
SUMMARY:Small Business Saturday Case Sale
DESCRIPTION:12-5PM in the storage space across from our tasting room. \n25% off mixed cases & 30% cases of the same wine. \n(each case contains 12 bottles)
URL:https://www.glendaleridgevineyard.com/event/small-business-saturday-case-sale/
CATEGORIES:All Events
END:VEVENT
BEGIN:VEVENT
DTSTART;TZID=America/New_York:20231125T130000
DTEND;TZID=America/New_York:20231125T180000
DTSTAMP:20260420T040228
CREATED:20230328T170227Z
LAST-MODIFIED:20231107T181525Z
UID:1616-1700917200-1700935200@www.glendaleridgevineyard.com
SUMMARY:Food Truck! - Cousins Maine Lobster
DESCRIPTION:Cousins Maine Lobster comes to Glendale Ridge! \nAs seen on ABC’s Shark Tank\, Cousins Maine Lobster offers lobster sourced off the Gulf of Maine. \nEnjoy a lobster roll\, lobster quesadilla\, and more! \n 
URL:https://www.glendaleridgevineyard.com/event/food-truck-cousins-maine-lobster-4/
CATEGORIES:All Events
END:VEVENT
BEGIN:VEVENT
DTSTART;TZID=America/New_York:20231125T140000
DTEND;TZID=America/New_York:20231125T160000
DTSTAMP:20260420T040228
CREATED:20231109T151552Z
LAST-MODIFIED:20231109T151552Z
UID:1707-1700920800-1700928000@www.glendaleridgevineyard.com
SUMMARY:Tasting Room Acoustics with Buddy McEarns
DESCRIPTION:Get your favorite GRV wine and listen to the signature sound of Buddy McEarns! \nCousins Maine Lobster will also be here 1-6PM.
URL:https://www.glendaleridgevineyard.com/event/tasting-room-acoustics-with-buddy-mcearns/
CATEGORIES:All Events,Music
END:VEVENT
END:VCALENDAR