BEGIN:VCALENDAR
VERSION:2.0
PRODID:-//Glendale Ridge Vineyard - ECPv6.15.20//NONSGML v1.0//EN
CALSCALE:GREGORIAN
METHOD:PUBLISH
X-ORIGINAL-URL:https://www.glendaleridgevineyard.com
X-WR-CALDESC:Events for Glendale Ridge Vineyard
REFRESH-INTERVAL;VALUE=DURATION:PT1H
X-Robots-Tag:noindex
X-PUBLISHED-TTL:PT1H
BEGIN:VTIMEZONE
TZID:America/New_York
BEGIN:DAYLIGHT
TZOFFSETFROM:-0500
TZOFFSETTO:-0400
TZNAME:EDT
DTSTART:20210314T070000
END:DAYLIGHT
BEGIN:STANDARD
TZOFFSETFROM:-0400
TZOFFSETTO:-0500
TZNAME:EST
DTSTART:20211107T060000
END:STANDARD
BEGIN:DAYLIGHT
TZOFFSETFROM:-0500
TZOFFSETTO:-0400
TZNAME:EDT
DTSTART:20220313T070000
END:DAYLIGHT
BEGIN:STANDARD
TZOFFSETFROM:-0400
TZOFFSETTO:-0500
TZNAME:EST
DTSTART:20221106T060000
END:STANDARD
BEGIN:DAYLIGHT
TZOFFSETFROM:-0500
TZOFFSETTO:-0400
TZNAME:EDT
DTSTART:20230312T070000
END:DAYLIGHT
BEGIN:STANDARD
TZOFFSETFROM:-0400
TZOFFSETTO:-0500
TZNAME:EST
DTSTART:20231105T060000
END:STANDARD
END:VTIMEZONE
BEGIN:VEVENT
DTSTART;TZID=America/New_York:20220416T173000
DTEND;TZID=America/New_York:20220416T200000
DTSTAMP:20260423T121655
CREATED:20220328T133839Z
LAST-MODIFIED:20220328T133839Z
UID:1282-1650130200-1650139200@www.glendaleridgevineyard.com
SUMMARY:Pink Moon Rising!
DESCRIPTION:In collaboration with Fed by Foley Charcuterie\, Glendale Ridge Vineyard is celebrating the rise of April’s Pink Moon. Saturday April 16th from 5:30-8pm\, Jill of Fed by Foley Charcuterie will be at Glendale Ridge Vineyard. You won’t want to miss the chance to enjoy cheese and a glass of wine as the pink moon rises over the Mt. Tom range.  \nThe pink moon is named after the pink wildflower creeping phlox\, which blooms in early spring. \nCharcuterie is available in two sizes and must be pre-ordered at in our pantry by April 14th. Wine can be purchased onsite.
URL:https://www.glendaleridgevineyard.com/event/pink-moon-rising/
CATEGORIES:All Events
END:VEVENT
BEGIN:VEVENT
DTSTART;VALUE=DATE:20220417
DTEND;VALUE=DATE:20220418
DTSTAMP:20260423T121655
CREATED:20220414T174136Z
LAST-MODIFIED:20220414T174136Z
UID:1285-1650153600-1650239999@www.glendaleridgevineyard.com
SUMMARY:Vineyard closed for the Easter Holiday
DESCRIPTION:
URL:https://www.glendaleridgevineyard.com/event/vineyard-closed-for-the-easter-holiday/
CATEGORIES:All Events
END:VEVENT
BEGIN:VEVENT
DTSTART;TZID=America/New_York:20220428T173000
DTEND;TZID=America/New_York:20220428T193000
DTSTAMP:20260423T121655
CREATED:20220418T163433Z
LAST-MODIFIED:20220419T163333Z
UID:1286-1651167000-1651174200@www.glendaleridgevineyard.com
SUMMARY:Hampshire County Young Professionals Wine Tasting & Tour
DESCRIPTION:Join us the Hampshire County Young Professionals at  Glendale Ridge Vineyard  for a tour of our grounds and a tasting.\n\n\nHCYP members are complimentary\, $10 for non-members.
URL:https://www.glendaleridgevineyard.com/event/hampshire-county-young-professionals-wine-tasting-tour/
CATEGORIES:All Events
END:VEVENT
END:VCALENDAR