BEGIN:VCALENDAR
VERSION:2.0
PRODID:-//Glendale Ridge Vineyard - ECPv6.15.20//NONSGML v1.0//EN
CALSCALE:GREGORIAN
METHOD:PUBLISH
X-ORIGINAL-URL:https://www.glendaleridgevineyard.com
X-WR-CALDESC:Events for Glendale Ridge Vineyard
REFRESH-INTERVAL;VALUE=DURATION:PT1H
X-Robots-Tag:noindex
X-PUBLISHED-TTL:PT1H
BEGIN:VTIMEZONE
TZID:America/New_York
BEGIN:DAYLIGHT
TZOFFSETFROM:-0500
TZOFFSETTO:-0400
TZNAME:EDT
DTSTART:20240310T070000
END:DAYLIGHT
BEGIN:STANDARD
TZOFFSETFROM:-0400
TZOFFSETTO:-0500
TZNAME:EST
DTSTART:20241103T060000
END:STANDARD
BEGIN:DAYLIGHT
TZOFFSETFROM:-0500
TZOFFSETTO:-0400
TZNAME:EDT
DTSTART:20250309T070000
END:DAYLIGHT
BEGIN:STANDARD
TZOFFSETFROM:-0400
TZOFFSETTO:-0500
TZNAME:EST
DTSTART:20251102T060000
END:STANDARD
BEGIN:DAYLIGHT
TZOFFSETFROM:-0500
TZOFFSETTO:-0400
TZNAME:EDT
DTSTART:20260308T070000
END:DAYLIGHT
BEGIN:STANDARD
TZOFFSETFROM:-0400
TZOFFSETTO:-0500
TZNAME:EST
DTSTART:20261101T060000
END:STANDARD
END:VTIMEZONE
BEGIN:VEVENT
DTSTART;TZID=America/New_York:20250619T180000
DTEND;TZID=America/New_York:20250619T200000
DTSTAMP:20260421T124603
CREATED:20250605T155840Z
LAST-MODIFIED:20250605T155840Z
UID:2098-1750356000-1750363200@www.glendaleridgevineyard.com
SUMMARY:Wine Trivia Night
DESCRIPTION:Grab some pals and head out to the vineyard for an evening of wine trivia. Multiple rounds and multiple opportunities to wine prizes. Co-hosted by Tim\, our winemaker\, and Rachel\, our events and marketing manager. You won’t want to miss this!
URL:https://www.glendaleridgevineyard.com/event/wine-trivia-night/
CATEGORIES:All Events
END:VEVENT
END:VCALENDAR